BEGIN:VCALENDAR
VERSION:2.0
PRODID:-//Club Trabandainas Noia - ECPv6.15.20//NONSGML v1.0//EN
CALSCALE:GREGORIAN
METHOD:PUBLISH
X-WR-CALNAME:Club Trabandainas Noia
X-ORIGINAL-URL:https://trabandainas.com
X-WR-CALDESC:Eventos para Club Trabandainas Noia
REFRESH-INTERVAL;VALUE=DURATION:PT1H
X-Robots-Tag:noindex
X-PUBLISHED-TTL:PT1H
BEGIN:VTIMEZONE
TZID:Europe/Paris
BEGIN:DAYLIGHT
TZOFFSETFROM:+0100
TZOFFSETTO:+0200
TZNAME:CEST
DTSTART:20250330T010000
END:DAYLIGHT
BEGIN:STANDARD
TZOFFSETFROM:+0200
TZOFFSETTO:+0100
TZNAME:CET
DTSTART:20251026T010000
END:STANDARD
BEGIN:DAYLIGHT
TZOFFSETFROM:+0100
TZOFFSETTO:+0200
TZNAME:CEST
DTSTART:20260329T010000
END:DAYLIGHT
BEGIN:STANDARD
TZOFFSETFROM:+0200
TZOFFSETTO:+0100
TZNAME:CET
DTSTART:20261025T010000
END:STANDARD
BEGIN:DAYLIGHT
TZOFFSETFROM:+0100
TZOFFSETTO:+0200
TZNAME:CEST
DTSTART:20270328T010000
END:DAYLIGHT
BEGIN:STANDARD
TZOFFSETFROM:+0200
TZOFFSETTO:+0100
TZNAME:CET
DTSTART:20271031T010000
END:STANDARD
END:VTIMEZONE
BEGIN:VEVENT
DTSTART;TZID=Europe/Paris:20260208T063000
DTEND;TZID=Europe/Paris:20260208T170000
DTSTAMP:20260419T221333
CREATED:20260201T181917Z
LAST-MODIFIED:20260201T182352Z
UID:2027-1770532200-1770570000@trabandainas.com
SUMMARY:Socios | RUTA MONTE ALOIA
DESCRIPTION:O 8 de Febreiro\, realizaremos unha Ruta polo Monte Aloia e Serra do Galiñeiro \n\nDistancia: 20\,00 km\nDificultade: Media\n1 avituallamento\nPrezo:\n\nSocios – Federados – 14 €\nSocios – Non Federados – 19 €\nSen Bus – Socios – Federados – 5 €\nSen Bus – Socios – Non Federados – 10 €\nAfiliados (1ª Toma Contacto) – Federados – 19 €\nAfiliados (1ª Toma Contacto) – Non Federados – 24 €\nSen Bus – Afiliados – Federados – 10 €\nSen Bus – Afiliados – Non Federados – 15 €\n\n\n\n– Peche de inscriciones: Xoves\, 5 de Febreiro\, ás 23:59 horas\, ou ao cubrirse as prazas do bus    \n * PRAZAS LIMITADAS !!! \n * NESTA ETAPA ORGANÍZASE XANTAR DE CONFRATERNIDADE PARA QUEN DESEXE PARTICIPAR!!! \n – O Xantar de Confraternidade está en trámite\, e valórase un coste aproximado de 18 €\, aínda que está pendiente de confirmar\, que se cobrarán no bus\, aos que desexen formar parte \n  \n * RÓGASE NON ESPERAR AO ÚLTIMO DÍA PARA REALIZAR A INSCRIPCIÓN\, a fin de non quedar sen praza e para poder informar ao Restaurante coa antelación precisa \n  \n•  Punto de encontro: ás 6:30 no aparcamento do Mercadona – Noia \n– Recollerase aos participantes nos lugares de Noia\, Espiñeira\, Catoira e Pontevedra \n– Neste novo ano faremos cambios\, e non utilizaremos dorsal durante as rutas exclusivas do Club \n– Deberedes grabar os seguintes teléfonos\, por si hay algunha dúbida ou si te sintes perdido en algún momento do percorrido \n– Intentaremos enseñarvos para que poidades descargar algunha plataforma para seguir a ruta\, que compartiremos previo ao inicio da ruta. \n– Será preciso que sigades o track que nós compartimos e non outro\, por cuestión de facer coincidir a parada de bus e avituallamento \n– Faremos unha parada para desaiunar \n– O autobús levaranos ao punto de saída\, para dar inicio á ruta \n– Iniciaremos a ruta ás 9:00 horas \n– A etapa transcurre polo Encoro do Río Zamáns\, visitaremos os Muiños de Zamáns\, polo merendeiro e entorno da Serra do Galiñeiro\, para logo achegarnos aos miradores do Monte Aloia\, ao Santuario de San Xiao \n– Haberá un avituallamento \n– Calculamos o remate da ruta ás 14:30 horas\, e logo mudaremos a indumentaria\, tralo que o Bus nos desprazará ata o lugar onde realizaremos un Xantar conxunto \n– Ao ser a viaxe de longo percorrido\, debemos axilizar a hora da comida ó mínimo tempo posible\, axilizando cada momento \n– Salida do autobús\, de retorno a casa\, ao remate do Xantar\, ás 17:00 como límite (dependendo da hora que poidamos inicialo) \n– Os participantes poderán optar por unha das seguintes opcións\, para o Xantar: \n* XANTAR DE CONFRATERNIDADE\, todos xuntos \n* Comer POLA SÚA CONTA respectando os horarios establecidos \n  \n*  SEXA CAL SEXA A OPCIÓN QUE ELIXA\, DEBERASE TER EN CONTA COMO LÍMITE A HORA DE SAÍDA DO BUS* \n  \n\n O Camiño transcurrirá por sendeiros entre Carballeiras\, Soutos\, Pinares e pistas. Acompañaranos na maior parte da ruta o son da auga\, e aínda que hai pequenos tramos de asfalto ao pasar por algunha aldea rural\, a ruta merece a pena. Rógase ir ao pendiente\, non desprazarse do Camiño e visualizar sempre a algún Colaborador.\n Como é habitual\, entre os participantes irán Colaboradores do Club\, con camisetas cor verde que convén non perder nunca de vista.\n Se non se pode seguir o ritmo do que precede\, deberá intentar acompañarse do seguinte grupo.\n\n * Rógase que non se faga a ruta en solitario\, para evitar perderse \n  \nImportantísimo!!! \n\nNorma Básica:  Procurar hidratarse suficientemente nos avituallamentos e reencher os botellíns para ter suministro ao longo do percorrido.\nRecoméndase beber moitas veces en pequenos tragos\, ao longo da ruta \nLevar calzado axeitado para o sendeirismo\, antiescorregadizo eo uso dos bastones.\nLevar unha muda para cambiar a roupa húmida unha vez rematemos a actividade.\n\n﻿﻿﻿﻿﻿﻿﻿﻿﻿﻿﻿﻿﻿﻿﻿﻿﻿﻿﻿
URL:https://trabandainas.com/evento/socios-ruta-monte-aloia/
LOCATION:Mercadona\, Noia\, Noia\, A Coruña\, 15200
CATEGORIES:Ruta Socios
ATTACH;FMTTYPE=image/jpeg:https://trabandainas.com/wp-content/uploads/2026/02/1200_3-1.jpg
ORGANIZER;CN="Club Trabandainas":MAILTO:clubtrabandainas@gmail.com
END:VEVENT
BEGIN:VEVENT
DTSTART;TZID=Europe/Paris:20260222T090000
DTEND;TZID=Europe/Paris:20260222T170000
DTSTAMP:20260419T221333
CREATED:20260201T182515Z
LAST-MODIFIED:20260201T182534Z
UID:2033-1771750800-1771779600@trabandainas.com
SUMMARY:Andaina Noia 25KM 2026
DESCRIPTION:TODA A INFORMACIÓN FACENDO CLICK AQUÍ!
URL:https://trabandainas.com/evento/andaina-noia-25km-2026/
LOCATION:Concello de Noia\, Alameda\, Noia\, 15200\, España
CATEGORIES:25K,Andaina
ATTACH;FMTTYPE=image/jpeg:https://trabandainas.com/wp-content/uploads/2026/01/ANDAINA-NOIA-2026-scaled.jpg
ORGANIZER;CN="Club Trabandainas":MAILTO:clubtrabandainas@gmail.com
END:VEVENT
END:VCALENDAR