BEGIN:VCALENDAR
VERSION:2.0
PRODID:-//Club Trabandainas Noia - ECPv6.15.20//NONSGML v1.0//EN
CALSCALE:GREGORIAN
METHOD:PUBLISH
X-WR-CALNAME:Club Trabandainas Noia
X-ORIGINAL-URL:https://trabandainas.com
X-WR-CALDESC:Eventos para Club Trabandainas Noia
REFRESH-INTERVAL;VALUE=DURATION:PT1H
X-Robots-Tag:noindex
X-PUBLISHED-TTL:PT1H
BEGIN:VTIMEZONE
TZID:Europe/Paris
BEGIN:DAYLIGHT
TZOFFSETFROM:+0100
TZOFFSETTO:+0200
TZNAME:CEST
DTSTART:20250330T010000
END:DAYLIGHT
BEGIN:STANDARD
TZOFFSETFROM:+0200
TZOFFSETTO:+0100
TZNAME:CET
DTSTART:20251026T010000
END:STANDARD
BEGIN:DAYLIGHT
TZOFFSETFROM:+0100
TZOFFSETTO:+0200
TZNAME:CEST
DTSTART:20260329T010000
END:DAYLIGHT
BEGIN:STANDARD
TZOFFSETFROM:+0200
TZOFFSETTO:+0100
TZNAME:CET
DTSTART:20261025T010000
END:STANDARD
BEGIN:DAYLIGHT
TZOFFSETFROM:+0100
TZOFFSETTO:+0200
TZNAME:CEST
DTSTART:20270328T010000
END:DAYLIGHT
BEGIN:STANDARD
TZOFFSETFROM:+0200
TZOFFSETTO:+0100
TZNAME:CET
DTSTART:20271031T010000
END:STANDARD
END:VTIMEZONE
BEGIN:VEVENT
DTSTART;TZID=Europe/Paris:20260118T060000
DTEND;TZID=Europe/Paris:20260118T170000
DTSTAMP:20260420T002542
CREATED:20260103T122516Z
LAST-MODIFIED:20260103T122522Z
UID:1985-1768716000-1768755600@trabandainas.com
SUMMARY:Socios | RUTA POLAS POZAS DE MELÓN
DESCRIPTION:O 18 de Xaneiro\, realizaremos unha Ruta polas Pozas de Melón \n\nDistancia: 17\,00 km\nDificultade: Media\n1 avituallamentos\nPrezo:\n\nSocios – Federados – 14 €\nSocios – Non Federados – 19 €\nSen Bus – Socios – Federados – 5 €\nSen Bus – Socios – Non Federados – 10 €\nAfiliados (1ª Toma Contacto) – Federados – 19 €\nAfiliados (1ª Toma Contacto) – Non Federados – 24 €\nSen Bus – Afiliados – Federados – 10 €\nSen Bus – Afiliados – Non Federados – 15 €\n\n\n\n– Peche de inscriciones: Xoves\, 15 de Xaneiro\, ás 23:59 horas\, ou ao cubrirse as prazas do bus    \n * PRAZAS LIMITADAS !!! \n * NESTA ETAPA ORGANÍZASE XANTAR DE CONFRATERNIDADE PARA QUEN DESEXE PARTICIPAR!!! \n – O Xantar de Confraternidade está en trámite\, e valórase un coste aproximado de 18 €\, aínda que está pendiente de confirmar\, que se cobrarán no bus\, aos que desexen formar parte \n  \n * RÓGASE NON ESPERAR AO ÚLTIMO DÍA PARA REALIZAR A INSCRIPCIÓN\, a fin de non quedar sen praza e para poder informar ao Restaurante coa antelación precisa \n  \n•  Punto de encontro: ás 6:00 no aparcamento do Mercadona – Noia \n– Recollerase aos participantes nos lugares de Noia\, Bertamiráns ou Santiago \n– Neste novo ano faremos cambios\, e non utilizaremos dorsal durante as rutas exclusivas do Club \n– Deberedes grabar os seguintes teléfonos\, por si hay algunha dúbida ou si te sintes perdido en algún momento do percorrido \n– Intentaremos enseñarvos a que poidades seguir algunha plataforma para seguir a ruta\, que compartiremos previo ao inicio da ruta. \n– Será preciso que sigades o track que nós compartimos e non outro\, por cuestión de facer coincidir a parada de bus e avituallamento \n– Faremos unha parada para desaiunar \n– O autobús levaranos ao punto de saída\, para dar inicio á ruta \n– Iniciaremos a ruta ás 9:00 horas \n– A etapa transcurre por sendeiros polo entorno das Pozas de Melón\, e poderemos visualizar as devanditas Pozas á vez que camiñanaremos pola senda a carón do Río Cerves\, visualizando a Fervenza de Tourón e Fervenza no Río Cortella\, á vez que o Mosteiro de Melón \n– Haberá un avituallamento \n– Calculamos o remate da ruta ás 14:00 horas\, e logo mudaremos a indumentaria\, tralo que o Bus nos desprazará ata o Restaurante onde realizaremos un Xantar conxunto \n– Ao ser a viaxe de longo percorrido\, debemos axilizar a hora da comida ó mínimo tempo posible\, axilizando cada momento \n– Salida do autobús\, de retorno a casa\, ao remate do Xantar\, ás 17:00 como límite (dependendo da hora que poidamos inicialo) \n– Os participantes poderán optar por unha das seguintes opcións\, para o Xantar: \n* XANTAR DE CONFRATERNIDADE\, todos xuntos \n* Comer POLA SÚA CONTA respectando os horarios establecidos \n  \n *  SEXA CAL SEXA A OPCIÓN QUE ELIXA\, DEBERASE TER EN CONTA COMO LÍMITE A HORA DE SAÍDA DO BUS* \n  \n\n O Camiño transcurrirá por sendeiros entre Carballeiras\, Soutos\, Pinares e pistas. Acompañaranos na maior parte da ruta o son da auga\, e aínda que hai pequenos tramos de asfalto ao pasar por algunha aldea rural\, a ruta merece a pena. Rógase ir ao pendiente\, non desprazarse do Camiño e visualizar sempre a algún Colaborador.\n Como é habitual\, entre os participantes irán Colaboradores do Club\, con camisetas cor verde que convén non perder nunca de vista.\n Se non se pode seguir o ritmo do que precede\, deberá intentar acompañarse do seguinte grupo.\n\n * Rógase que non se faga a ruta en solitario\, para evitar perderse \n  \nImportantísimo!!! \n\nNorma Básica:  Procurar hidratarse suficientemente nos avituallamentos e reencher os botellíns para ter suministro ao longo do percorrido.\nRecoméndase beber moitas veces en pequenos tragos\, ao longo da ruta \nLevar calzado axeitado para o sendeirismo\, antiescorregadizo eo uso dos bastones.\nLevar unha muda para cambiar a roupa húmida unha vez rematemos a actividade.\n\n﻿﻿﻿﻿﻿﻿﻿﻿﻿﻿﻿﻿﻿﻿﻿﻿﻿﻿
URL:https://trabandainas.com/evento/socios-ruta-polas-pozas-de-melon/
LOCATION:Mercadona\, Noia\, Noia\, A Coruña\, 15200
CATEGORIES:Ruta Socios
ATTACH;FMTTYPE=image/jpeg:https://trabandainas.com/wp-content/uploads/2026/01/1200_3.jpg
ORGANIZER;CN="Club Trabandainas":MAILTO:clubtrabandainas@gmail.com
END:VEVENT
BEGIN:VEVENT
DTSTART;TZID=Europe/Paris:20260125T053000
DTEND;TZID=Europe/Paris:20260125T180000
DTSTAMP:20260420T002542
CREATED:20260201T182228Z
LAST-MODIFIED:20260201T182228Z
UID:2029-1769319000-1769364000@trabandainas.com
SUMMARY:Socios | 1 ETAPA CAMIÑO PRIMITIVO: OVIEDO-PEÑAFLOR
DESCRIPTION:CAMIÑO PRIMITIVO\, AO ESTILO TRABANDAINAS \n1ª ETAPA: OVIEDO – PEÑAFLOR \nO 25 de Xaneiro\, realizaremos iniciaremos o RCiclo do Camiño Primitivo\, coa realización da 1ª Etapa\, ao Estilo Trabandaina\, que nos trasladará dende Oviedo ata Peñaflor \n\nDistancia: 22\,40 km\nDificultade: Media\n1 avituallamento\, en L’Escampleru\nPrezo:\n\nSocios – Federados – 20 €\nSocios – Non Federados – 25 €\nAfiliados (1ª Toma Contacto) – Federados – 25 €\nAfiliados (1ª Toma Contacto) – Non Federados – 30 €\n\n\n\n– Peche de inscriciones: Xoves\, 22 de Xaneiro\, ás 23:59 horas\, ou ao cubrirse as prazas do bus    \n * PRAZAS LIMITADAS !!! \n * NESTA ETAPA\, POR CUESTIÓNS DE HORARIOS\, NON HABERÁ XANTAR DE CONFRATERNIDADE!!! \n – Pero imos a realizar un «Xantar Especial» que se irá preparando a medida que os participantes vaian chegando\, para axilizar o regreso\, xa que temos limitados os horarios pola distancia. \n – Estará composto por bocadillo quente\, preparado no momento da chegada de cada un + cervezas / viño + postre + café \n – Valórase un coste inicial aproximado de 5 €\, que se cobrarán no bus. Iremos analizando de cara as seguintes etapas si se cubre o custe con esta cantidade ou non \n  \n * RÓGASE NON ESPERAR AO ÚLTIMO DÍA PARA REALIZAR A INSCRIPCIÓN\, por mor la LIMITACIÓN DAS PRAZAS\, e para VALORAR cantos BUSES imos precisar   \n  \n•  Punto de encontro: ás 5:30 no aparcamento do Mercadona – Noia \n– Recollerase aos participantes nos lugares de Noia\, Bertamiráns ou Santiago \n– Faremos unha parada para desaiunar \n– O autobús levaranos ao punto de saída\, para dar inicio á ruta \n– Iniciaremos a ruta ás 10:30 horas \n– A etapa transcurre por sendeiros que estarán marcados con moxóns do Camiño Xacobeo e no percorrido por Oviedo\, por Cunchas de Bronce\, adheridas no chan \n– Haberá un avituallamento\, no lugar de L’Escampleru \n– Se alguén non dese chegado ao Avituallamento\, antes das 13:00 horas\, terá que realizar o resto do percorrido no bus\, pois non daría chegado ao final en tempos \n– Disculpade as limitacións de horarios pero son indispensables\, xa que nos temos que adaptar a un longo percorrido\, para dar feito este Camiño Xacobeo. \n– Calculamos o remate da ruta ás 15:30 horas. \n– A medida que os participantes vaian chegando\, iráselle preparando o bocadillo quente e complementos\, para que vaian comendo\, unha vez muden a indumentaria. \n– Unha vez cambien a roupa os últimos en chegar\, e rematen de xantar\, iniciaremos o traxecto de retorno\, que deberá ser con anterioridade das 16:30 horas \n– Ao ser a viaxe de longo percorrido\, debemos axilizar a hora da comida ó mínimo tempo posible\, axilizando cada momento \n– Salida do autobús\, de retorno a casa\, ao remate do Xantar\, ás 16:30 como límite (se poidera ser\, o ideal será saír ás 16:00 ou 16:15 a máis tardar) \n  \n\n O Camiño estará sinalizado en todo momento con vieiras en bronce ou moxóns do Camiño Xacobeo\, pero haberá que ir ao pendiente.\n Como é habitual\, entre os participantes irán Colaboradores do Club\, con camisetas cor verde que convén non perder nunca de vista.\n Se non se pode seguir o ritmo do que precede\, deberá intentar acompañarse do seguinte grupo.\n Convén non relaxar o ritmo durante a ruta\, nen pararse excesivamente para facer fotos\n\n * Rógase que non se faga a ruta en solitario\, para evitar perderse \n * Lembrade que os sinais do Camiño continúan ata Santiago. É preciso ter claro onde imos a rematar cada etapa \n  \n  \nImportantísimo!!! \n\nNorma Básica:  Procurar hidratarse suficientemente nos avituallamentos e reencher os botellíns para ter suministro ao longo do percorrido.\nLevar calzado axeitado para o sendeirismo\, antiescorregadizo e importantísimo o uso dos bastóns.\nLevar unha muda para cambiar a roupa húmida unha vez rematemos a actividade.\n\n﻿﻿﻿﻿﻿﻿﻿﻿﻿﻿﻿﻿﻿﻿﻿﻿﻿﻿
URL:https://trabandainas.com/evento/socios-1-etapa-camino-primitivo-oviedo-penaflor/
LOCATION:Mercadona\, Noia\, Noia\, A Coruña\, 15200
CATEGORIES:Camiño dos Faros,Ruta Socios
ATTACH;FMTTYPE=image/jpeg:https://trabandainas.com/wp-content/uploads/2026/02/1200_3.jpg
ORGANIZER;CN="Club Trabandainas":MAILTO:clubtrabandainas@gmail.com
END:VEVENT
END:VCALENDAR