BEGIN:VCALENDAR
VERSION:2.0
PRODID:-//Club Trabandainas Noia - ECPv6.15.20//NONSGML v1.0//EN
CALSCALE:GREGORIAN
METHOD:PUBLISH
X-WR-CALNAME:Club Trabandainas Noia
X-ORIGINAL-URL:https://trabandainas.com
X-WR-CALDESC:Eventos para Club Trabandainas Noia
REFRESH-INTERVAL;VALUE=DURATION:PT1H
X-Robots-Tag:noindex
X-PUBLISHED-TTL:PT1H
BEGIN:VTIMEZONE
TZID:Europe/Paris
BEGIN:DAYLIGHT
TZOFFSETFROM:+0100
TZOFFSETTO:+0200
TZNAME:CEST
DTSTART:20240331T010000
END:DAYLIGHT
BEGIN:STANDARD
TZOFFSETFROM:+0200
TZOFFSETTO:+0100
TZNAME:CET
DTSTART:20241027T010000
END:STANDARD
BEGIN:DAYLIGHT
TZOFFSETFROM:+0100
TZOFFSETTO:+0200
TZNAME:CEST
DTSTART:20250330T010000
END:DAYLIGHT
BEGIN:STANDARD
TZOFFSETFROM:+0200
TZOFFSETTO:+0100
TZNAME:CET
DTSTART:20251026T010000
END:STANDARD
BEGIN:DAYLIGHT
TZOFFSETFROM:+0100
TZOFFSETTO:+0200
TZNAME:CEST
DTSTART:20260329T010000
END:DAYLIGHT
BEGIN:STANDARD
TZOFFSETFROM:+0200
TZOFFSETTO:+0100
TZNAME:CET
DTSTART:20261025T010000
END:STANDARD
END:VTIMEZONE
BEGIN:VEVENT
DTSTART;VALUE=DATE:20250921
DTEND;VALUE=DATE:20250922
DTSTAMP:20260424T001350
CREATED:20250410T151744Z
LAST-MODIFIED:20250918T135726Z
UID:1867-1758412800-1758499199@trabandainas.com
SUMMARY:Socios | Ruta do Socio - Ruta polas Fragas do Eume
DESCRIPTION:RUTA DO SOCIO POLAS FRAGAS DO EUME \nO 21 de Setembro\, realizaremos unha Ruta polas Fragas do Eume\, o día da Ruta do Socio \n\nDistancia: 14\,00 km\nDificultade: Media\, aínda que algo técnica\n1 avituallamento: Nos paneis de información – parking para bus preto da Antiga Central da Ventureira\nPrezo:\n\nSocios – Federados – 0 €\nSocios – Non Federados – 5 €\nSen Desplazamento – Federados – 0 €\nSen Desplazamento – Non Federados – 5 €\nAfiliados (1ª Toma Contacto) – Federados – 13 €\nAfiliados (1ª Toma Contacto) – Non Federados – 18 €\nSen Bus – Afiliado – Federado – 8 €\nSen Bus – Afiliado – Non Federado – 13 €\n\n\n\n– Peche de inscriciones: Xoves\, 18 de Setembro\, ás 23:59 horas\, ou ao cubrirse as prazas do bus    \n * PRAZAS LIMITADAS !!! \n * NESTA ETAPA ORGANÍZASE XANTAR DE CONFRATERNIDADE PARA QUEN DESEXE PARTICIPAR!!! \n – O Xantar de Confraternidade está en trámite\, e valórase un coste aproximado de 18 €\, que se cobrarán no bus\, aos que desexen formar parte \n  \n * RÓGASE NON ESPERAR AO ÚLTIMO DÍA PARA REALIZAR A INSCRIPCIÓN\, a fin de non quedar sen praza e para poder informar ao Restaurante coa antelación precisa \n  \n•  Punto de encontro: ás 6:30 no aparcamento do Mercadona – Noia \n– Recollerase aos participantes nos lugares de Noia\, Bertamiráns ou Santiago \n– Farase entrega dos dorsais onde van indicados os datos de contacto do club \n– Faremos unha parada para desaiunar \n– O autobús levaranos ao punto de saída fronte ao Museo Etnográfico de A Capela\, para dar inicio á ruta \n– Iniciaremos a ruta ás 9:00 horas \n– A etapa transcurre por sendeiros cercanos ao río\, polo que resultará algo técnica \n– Haberá un avituallamento no parking para bus cercano á Antiga Central Ventureira\, no km 6\,5. Será preciso reanudar a ruta antes das 11:00 horas como límite \n– No entorno do Mosteiro\, está situada a Taberna de Caaveiro\, por se algén desexa tomar algo alí\, aconsellamos que sexa despois de visitar o Mosteiro e deberá reincorporarse á ruta antes das 13:00 horas\, pois en caso contrario remataríase a ruta demasiado tarde. \n– Calculamos o remate da ruta ás 14:00 horas\, e logo mudaremos a indumentaria\, tralo que o Bus nos desprazará ata o Restaurante onde realizaremos un Xantar conxunto \n– Ao ser a viaxe de longo percorrido\, debemos axilizar a hora da comida ó mínimo tempo posible\, axilizando cada momento \n– Salida do autobús\, de retorno a casa\, ao remate do Xantar\, ás 18:00 como límite (dependendo da hora que poidamos inicialo) \n– Os participantes poderán optar por unha das seguintes opcións\, para o Xantar: \n* XANTAR DE CONFRATERNIDADE\, todos xuntos \n* Comer POLA SÚA CONTA respectando os horarios establecidos \n  \n*  SEXA CAL SEXA A OPCIÓN QUE ELIXA\, DEBERASE TER EN CONTA COMO LÍMITE A HORA DE SAÍDA DO BUS* \n  \n\n O Camiño irá por sendas ao marxe do río\, rógase ir ao pendiente\, non desprazarse do Camiño e visualizar sempre a algún Colaborador.\n Como é habitual\, entre os participantes irán Colaboradores do Club\, con camisetas cor verde que convén non perder nunca de vista.\n Se non se pode seguir o ritmo do que precede\, deberá intentar acompañarse do seguinte grupo.\n\n * Rógase que non se faga a ruta en solitario\, para evitar perderse \n  \nImportantísimo!!! \n\nNorma Básica:  Procurar hidratarse suficientemente nos avituallamentos e reencher os botellíns para ter suministro ao longo do percorrido.\nLevar calzado axeitado para o sendeirismo\, antiescorregadizo eo uso dos bastones.\nLevar unha muda para cambiar a roupa húmida unha vez rematemos a actividade.\n\n﻿﻿﻿﻿﻿﻿﻿﻿﻿﻿﻿﻿﻿﻿﻿﻿﻿
URL:https://trabandainas.com/evento/ruta-do-socio-ruta-polas-fragas-do-eume/
LOCATION:Mercadona\, Noia\, Noia\, A Coruña\, 15200
CATEGORIES:Ruta Socios
ATTACH;FMTTYPE=image/jpeg:https://trabandainas.com/wp-content/uploads/2025/04/1200_3-2.jpg
END:VEVENT
END:VCALENDAR