BEGIN:VCALENDAR
VERSION:2.0
PRODID:-//Club Trabandainas Noia - ECPv6.15.20//NONSGML v1.0//EN
CALSCALE:GREGORIAN
METHOD:PUBLISH
X-WR-CALNAME:Club Trabandainas Noia
X-ORIGINAL-URL:https://trabandainas.com
X-WR-CALDESC:Eventos para Club Trabandainas Noia
REFRESH-INTERVAL;VALUE=DURATION:PT1H
X-Robots-Tag:noindex
X-PUBLISHED-TTL:PT1H
BEGIN:VTIMEZONE
TZID:Europe/Paris
BEGIN:DAYLIGHT
TZOFFSETFROM:+0100
TZOFFSETTO:+0200
TZNAME:CEST
DTSTART:20240331T010000
END:DAYLIGHT
BEGIN:STANDARD
TZOFFSETFROM:+0200
TZOFFSETTO:+0100
TZNAME:CET
DTSTART:20241027T010000
END:STANDARD
BEGIN:DAYLIGHT
TZOFFSETFROM:+0100
TZOFFSETTO:+0200
TZNAME:CEST
DTSTART:20250330T010000
END:DAYLIGHT
BEGIN:STANDARD
TZOFFSETFROM:+0200
TZOFFSETTO:+0100
TZNAME:CET
DTSTART:20251026T010000
END:STANDARD
BEGIN:DAYLIGHT
TZOFFSETFROM:+0100
TZOFFSETTO:+0200
TZNAME:CEST
DTSTART:20260329T010000
END:DAYLIGHT
BEGIN:STANDARD
TZOFFSETFROM:+0200
TZOFFSETTO:+0100
TZNAME:CET
DTSTART:20261025T010000
END:STANDARD
END:VTIMEZONE
BEGIN:VEVENT
DTSTART;TZID=Europe/Paris:20251123T063000
DTEND;TZID=Europe/Paris:20251123T180000
DTSTAMP:20260420T061003
CREATED:20250410T130454Z
LAST-MODIFIED:20250918T140111Z
UID:1826-1763879400-1763920800@trabandainas.com
SUMMARY:Socios | 10 ETAPA TRABANDAINA CAMIÑO DOS FAROS: PRAIA DE LIRES - FARO FISTERRA
DESCRIPTION:10 ETAPA TRABANDAINA CAMIÑO DOS FAROS: PRAIA DE LIRES – FARO FISTERRA \nO  23 de Novembro \, se o tempo o permite\,  continuaremos  pola  ruta do Camiño dos Faros – Estilo Trabandaina\, e realizaremos a 10ª Etapa dende Praia de Lires ata Fisterra. \n\nDistancia: 20\,50 km \nDificultade: Media – Alta\n1 avituallamento\, na poboación de Mar de Fora\, km 10\,00\nPrezo:\n\nMembros Federados – 10 €\nMembros non federados – 15 € \nDesprazamento de Sen – Federado – 5 €\nSen Desprazamento – Non Federado – 10 €\nAfiliados (1.º contacto) Federados – 13 € \nAfiliados (1.º contacto) Non federados – 18 €\n\n\n\n – Data límite de inscrición: Xoves\,  20 de outubro\,  ás 23:59 h\, ou para cubrir as prazas do autobús    \n * PRAZAS LIMITADAS!!! \n * ESTA ESCENA ESTÁ ORGANIZADA POR XANTAR DE CONFRATERNIDADE\, ASÍ QUE QUEREN PARTICIPAR!!! \n – O Xantar de Confraternidade está en proceso\, e estímase un custo aproximado de 18 €\, que se cobrará no autobús\, para aqueles que desexen formar parte. \n  \n * NON ESPEREDES AO ÚLTIMO DÍA PARA INSCRIBIRVOS\, para non perdervos esta oportunidade e poder avisar ao Restaurante con antelación. \n  \n•   Punto de encontro: ás 7:00 no aparcadoiro de Mercadona – Noia \n – Coñecer aos participantes en lugares de Noia\, Outes\, A Pereira e Baiñas  \n – Farase entrega dos dorsais onde se indica a información de contacto do club. \n – Faremos unha parada para desaiunar \n – O autobús lévanos ao punto de partida en Praia de Lires\, para comezar a ruta desta 10ª Etapa \n – Comezaremos a ruta ás 9:00 da mañá  \n – A etapa transcorre por sendeiros próximos á costa\, formados na súa maioría por camiños dos pescadores \n – Haberá un avituallamento na Estrada da poboación de Mar de Fora\, no km 10 \n – A data límite para pasar polo avituallamento será as 11:30 h. Se é máis tarde\, non poderás continuar a ruta\, porque chegarías demasiado tarde ao fin da ruta. \n – Calculamos a finalización da ruta ás 14:00 h\, e mudaremos a roupa\, para que o autobús nos leve ao Restaurante onde realizaremos un Xantar conxunto. \n – Como se trata dun recorrido de longa distancia\, debemos axilizar á hora de comer ao mínimo tempo posible\, axilizando cada momento \n –  Saída do autobús\, de volta a casa\, ao remate de Xantar\, ata as 18:00 como límite  (dependendo da hora á que poidamos comezar) \n – As persoas participantes poderán escoller unha das seguintes opcións para Xantar: \n    *  XANTAR DE CONFRATERNIDADE\, todos xuntos \n    *  Come POLA SÚA CONTA  respectando os horarios establecidos \n  \n*   A OPCIÓN SEXA CAL SEXA QUE ELIXES\, DEBE TERSE EN CONTA O LÍMITE DA SAÍDA DO AUTOBÚS* \n  \n\n O Camiño irá por sendeiros de pescadores\, que estarán sinalizados con frechas e puntos verdes (sinais dos traskis)\, por favor\, vai ao pendente\, non te desvíes do Camiño e estate sempre atento a algún Colaborador.\n Como é habitual\, entre os participantes haberá Colaboradores do Club\, con camisetas verdes que nunca se deben perder de vista.\n Se non podes seguir o ritmo do anterior\, debes intentar unirte ao seguinte grupo.\n\n * Por favor\, non fagas a ruta só para evitar perderte \n  \nMoi importante!!! \n\nRegra básica:   Tenta manterte o suficientemente hidratado e enche as botellas para asegurar o abastecemento durante toda a viaxe.\nUsa calzado de sendeirismo antideslizante e bastóns.\nSacar unha muda de roupa para cambiarse a roupa húmida unha vez que rematemos a actividade.\n\n﻿﻿﻿﻿﻿﻿﻿﻿﻿﻿﻿﻿﻿﻿﻿﻿﻿
URL:https://trabandainas.com/evento/socios-10-etapa-trabandaina-camino-dos-faros/
LOCATION:Mercadona\, Noia\, Noia\, A Coruña\, 15200
CATEGORIES:Camiño dos Faros,Ruta Socios
ATTACH;FMTTYPE=image/jpeg:https://trabandainas.com/wp-content/uploads/2025/04/1200_3-4.jpg
ORGANIZER;CN="Club Trabandainas":MAILTO:clubtrabandainas@gmail.com
END:VEVENT
END:VCALENDAR