BEGIN:VCALENDAR
VERSION:2.0
PRODID:-//Club Trabandainas Noia - ECPv6.15.20//NONSGML v1.0//EN
CALSCALE:GREGORIAN
METHOD:PUBLISH
X-ORIGINAL-URL:https://trabandainas.com
X-WR-CALDESC:Eventos para Club Trabandainas Noia
REFRESH-INTERVAL;VALUE=DURATION:PT1H
X-Robots-Tag:noindex
X-PUBLISHED-TTL:PT1H
BEGIN:VTIMEZONE
TZID:Europe/Paris
BEGIN:DAYLIGHT
TZOFFSETFROM:+0100
TZOFFSETTO:+0200
TZNAME:CEST
DTSTART:20240331T010000
END:DAYLIGHT
BEGIN:STANDARD
TZOFFSETFROM:+0200
TZOFFSETTO:+0100
TZNAME:CET
DTSTART:20241027T010000
END:STANDARD
BEGIN:DAYLIGHT
TZOFFSETFROM:+0100
TZOFFSETTO:+0200
TZNAME:CEST
DTSTART:20250330T010000
END:DAYLIGHT
BEGIN:STANDARD
TZOFFSETFROM:+0200
TZOFFSETTO:+0100
TZNAME:CET
DTSTART:20251026T010000
END:STANDARD
BEGIN:DAYLIGHT
TZOFFSETFROM:+0100
TZOFFSETTO:+0200
TZNAME:CEST
DTSTART:20260329T010000
END:DAYLIGHT
BEGIN:STANDARD
TZOFFSETFROM:+0200
TZOFFSETTO:+0100
TZNAME:CET
DTSTART:20261025T010000
END:STANDARD
END:VTIMEZONE
BEGIN:VEVENT
DTSTART;TZID=Europe/Paris:20250629T063000
DTEND;TZID=Europe/Paris:20250629T180000
DTSTAMP:20260420T153314
CREATED:20250410T130413Z
LAST-MODIFIED:20250410T130413Z
UID:1825-1751178600-1751220000@trabandainas.com
SUMMARY:Socios | 6ª ETAPA TRABANDAINA CAMIÑO DOS FAROS:  Camariñas – Muxía
DESCRIPTION:PRONTO MÁIS INFORMACIÓN
URL:https://trabandainas.com/evento/socios-6a-etapa-trabandaina-camino-dos-faros-camarinas-muxia/
LOCATION:Mercadona\, Noia\, Noia\, A Coruña\, 15200
CATEGORIES:Camiño dos Faros,Ruta Socios
ORGANIZER;CN="Club Trabandainas":MAILTO:clubtrabandainas@gmail.com
END:VEVENT
END:VCALENDAR