BEGIN:VCALENDAR
VERSION:2.0
PRODID:-//Club Trabandainas Noia - ECPv6.15.20//NONSGML v1.0//EN
CALSCALE:GREGORIAN
METHOD:PUBLISH
X-WR-CALNAME:Club Trabandainas Noia
X-ORIGINAL-URL:https://trabandainas.com
X-WR-CALDESC:Eventos para Club Trabandainas Noia
REFRESH-INTERVAL;VALUE=DURATION:PT1H
X-Robots-Tag:noindex
X-PUBLISHED-TTL:PT1H
BEGIN:VTIMEZONE
TZID:Europe/Paris
BEGIN:DAYLIGHT
TZOFFSETFROM:+0100
TZOFFSETTO:+0200
TZNAME:CEST
DTSTART:20240331T010000
END:DAYLIGHT
BEGIN:STANDARD
TZOFFSETFROM:+0200
TZOFFSETTO:+0100
TZNAME:CET
DTSTART:20241027T010000
END:STANDARD
BEGIN:DAYLIGHT
TZOFFSETFROM:+0100
TZOFFSETTO:+0200
TZNAME:CEST
DTSTART:20250330T010000
END:DAYLIGHT
BEGIN:STANDARD
TZOFFSETFROM:+0200
TZOFFSETTO:+0100
TZNAME:CET
DTSTART:20251026T010000
END:STANDARD
BEGIN:DAYLIGHT
TZOFFSETFROM:+0100
TZOFFSETTO:+0200
TZNAME:CEST
DTSTART:20260329T010000
END:DAYLIGHT
BEGIN:STANDARD
TZOFFSETFROM:+0200
TZOFFSETTO:+0100
TZNAME:CET
DTSTART:20261025T010000
END:STANDARD
END:VTIMEZONE
BEGIN:VEVENT
DTSTART;TZID=Europe/Paris:20250209T063000
DTEND;TZID=Europe/Paris:20250209T170000
DTSTAMP:20260420T233619
CREATED:20250110T083743Z
LAST-MODIFIED:20250410T130941Z
UID:1696-1739082600-1739120400@trabandainas.com
SUMMARY:Socios | 2ª ETAPA TRABANDAINA CAMIÑO DOS FAROS:  FARO NARIGA - PORTO DE CORME
DESCRIPTION:O 9 de Febreiro\, si o tempo o permite\, iniciamos o roteiro do Camiño dos Faros – Diseño Trabandaina\, e realizaremos a 2ª Etapa dende Faro Nariga a Porto de Corme \n\nDistancia: 19\,40 km\nDificultade: Media – Alta\n1 avituallamento\, en Praia da Barda\, km 8\,6\nPrezo:\n\nSocios Federados – 10 €\nSocios Non Federados – 15 €\nSen Desplazamento – Federados – 5 €\nSen Desplazamento – Non Federados – 10 €\nAfiliados (1ª Toma Contacto) Federados – 13 €\nAfiliados (1ª Toma Contacto) Non Federados – 18 €\n\n\n\n– Peche de inscriciones: Xoves\, 6 de Febreiro ás 23:59 horas\, ou ao cubrirse as prazas do bus    \n * PRAZAS LIMITADAS !!! \n * NESTA ETAPA ORGANÍZASE XANTAR DE CONFRATERNIDADE PARA QUEN DESEXE PARTICIPAR!!! \n – O Xantar de Confraternidade está en trámite\, e valórase un coste aproximado de 18 €\, que se cobrarán no bus\, aos que desexen formar parte \n  \n * RÓGASE NON ESPERAR AO ÚLTIMO DÍA PARA REALIZAR A INSCRIPCIÓN\, a fin de non quedar sen praza e para poder informar ao Restaurante coa antelación precisa \n  \n•  Punto de encontro: ás 6:30 no aparcamento do Mercadona – Noia \n– Recollerase aos participantes nos lugares de Noia\, Outes\, A Pereira\, Zas e Faro Nariga \n– Farase entrega dos dorsais onde van indicados os datos de contacto do club \n– Faremos unha parada para desaiunar \n– O autobús levaranos ao punto de saída no Faro Nariga\, para dar inicio á ruta desta 2ª Etapa \n– Iniciaremos a ruta ás 9:00 horas \n– A etapa transcurre por sendeiros cercanos á costa\, na maior parte formados pola sendas dos pescadores \n– Haberá un avituallamento na Praia da Barda\, no km 8\,6 \n– Calculamos o remate da ruta ás 14:00 horas\, e logo mudaremos a indumentaria\, tralo que o Bus nos desprazará ata o Restaurante onde realizaremos un Xantar conxunto \n– Ao ser a viaxe de longo percorrido\, debemos axilizar a hora da comida ó mínimo tempo posible\, axilizando cada momento \n– Salida do autobús\, de retorno a casa\, ao remate do Xantar\, ás 18:00 como límite (dependendo da hora que poidamos inicialo) \n\nCanto máis axilicemos a ruta\, antes poderemos voltar á casa\n\n– Os participantes poderán optar por unha das seguintes opcións\, para o Xantar: \n* XANTAR DE CONFRATERNIDADE\, todos xuntos \n* Comer POLA SÚA CONTA respectando os horarios establecidos \n  \n*  SEXA CAL SEXA A OPCIÓN QUE ELIXA\, DEBERASE TER EN CONTA COMO LÍMITE A HORA DE SAÍDA DO BUS* \n  \n\n O Camiño irá por sendas de pescadores\, que estarán marcadas con frechas e puntos verdes (sinais dos traskis)\, rógase ir ao pendiente\, non desprazarse do Camiño e visualizar sempre a algún Colaborador.\n Como é habitual\, entre os participantes irán Colaboradores do Club\, con camisetas cor verde que convén non perder nunca de vista.\n Se non se pode seguir o ritmo do que precede\, deberá intentar acompañarse do seguinte grupo.\n\n * Rógase que non se faga a ruta en solitario\, para evitar perderse \n﻿﻿﻿﻿﻿﻿﻿﻿﻿﻿﻿﻿﻿﻿
URL:https://trabandainas.com/evento/socios-2a-etapa-trabandaina-camino-dos-faros-faro-nariga-porto-de-corme/
LOCATION:Mercadona\, Noia\, Noia\, A Coruña\, 15200
CATEGORIES:Camiño dos Faros,Ruta Socios
ATTACH;FMTTYPE=image/jpeg:https://trabandainas.com/wp-content/uploads/2025/01/1200_3-1.jpg
ORGANIZER;CN="Club Trabandainas":MAILTO:clubtrabandainas@gmail.com
END:VEVENT
END:VCALENDAR