BEGIN:VCALENDAR
VERSION:2.0
PRODID:-//Club Trabandainas Noia - ECPv6.15.20//NONSGML v1.0//EN
CALSCALE:GREGORIAN
METHOD:PUBLISH
X-ORIGINAL-URL:https://trabandainas.com
X-WR-CALDESC:Eventos para Club Trabandainas Noia
REFRESH-INTERVAL;VALUE=DURATION:PT1H
X-Robots-Tag:noindex
X-PUBLISHED-TTL:PT1H
BEGIN:VTIMEZONE
TZID:Europe/Paris
BEGIN:DAYLIGHT
TZOFFSETFROM:+0100
TZOFFSETTO:+0200
TZNAME:CEST
DTSTART:20240331T010000
END:DAYLIGHT
BEGIN:STANDARD
TZOFFSETFROM:+0200
TZOFFSETTO:+0100
TZNAME:CET
DTSTART:20241027T010000
END:STANDARD
BEGIN:DAYLIGHT
TZOFFSETFROM:+0100
TZOFFSETTO:+0200
TZNAME:CEST
DTSTART:20250330T010000
END:DAYLIGHT
BEGIN:STANDARD
TZOFFSETFROM:+0200
TZOFFSETTO:+0100
TZNAME:CET
DTSTART:20251026T010000
END:STANDARD
BEGIN:DAYLIGHT
TZOFFSETFROM:+0100
TZOFFSETTO:+0200
TZNAME:CEST
DTSTART:20260329T010000
END:DAYLIGHT
BEGIN:STANDARD
TZOFFSETFROM:+0200
TZOFFSETTO:+0100
TZNAME:CET
DTSTART:20261025T010000
END:STANDARD
END:VTIMEZONE
BEGIN:VEVENT
DTSTART;TZID=Europe/Paris:20250713T063000
DTEND;TZID=Europe/Paris:20250713T180000
DTSTAMP:20260424T020010
CREATED:20250311T092114Z
LAST-MODIFIED:20250410T131712Z
UID:1749-1752388200-1752429600@trabandainas.com
SUMMARY:Socios | RUTA POLA COSTA DA VELA
DESCRIPTION:O  13 de Xullo 2025 imos realizar a Ruta pola Costa da Vela \n\nDistancia: 20 km\nDificultade: Media\n1 avituallamento na Caracola de Donón\, no km 11\nPrezo:\n\nCon Bus – Socio – Federado – 10 €\nCon Bus – Socio – Non Federado – 15 €\nSen Bus – Socio – Federado – 5 €\nSen Bus – Socio – Non Federado – 10 €\nCon Bus – Afiliado (1ª Toma Contacto) – Federado – 13 €\nCon Bus – Afiliado (1ª Toma Contacto) – Non Federado – 18 €\nSen Bus – Afiliado (1ª Toma Contacto) – Federado – 8 €\nSen Bus – Afiliado (1ª Toma Contacto)- Non Federado – 13 €\n\n\n\n– Peche de inscricións: Xoves\, 10 de Xullo ás 23:59 horas  \n\n1º Punto de Encontro: Ás 6:30 horas\, no Mercadona – Noia    Mercadona – Noia \n\n\n2º Punto de Encontro: Ás 6:50 horas\, no Parking de Espiñeira    Parking de Espiñeira\n\n\n3º Punto de Encontro: Ás 7:10 horas\, no aparcamento do Asador Mondragón   Parrillada Mondragón\n\n\n4º Punto de Encontro: Ás 7:30 horas\, na parada de bus frente ao Centro Comercial La Barca en Pontevedra    Parada Bus Centro Comercial La Barca – Pontevedra\n\n\n5º Punto de Encontro: Ás 8:50 no Parking da Praia de Limens     Aparcadero Praia de Limens\n\n\nÁs 9:00 iniciaremos a actividade.\n\n  \n– Farase entrega dos dorsais donde van indicados os datos de contacto do club \n– Percorreremos sendeiros que nos levarán ata as Praias de Nega\, Visó e Barra \n– Cruzaremos un regato previo á subida ao sendeiro que nos traslada pola Costa da Vela \n– Visitaremos o Faro de Punta Subrido\, Faro de Punta Robaleira\, e Faro de Cabo Home \n– Camiñaremos por sendeiros que nos permitirán visualizar unha fermosa paisaxe fronte a Costa da Vela así como ás Illas Cíes \n– Chegaremos ata a Caracola de Donón\, onde poderemos gozar dun saboroso avituallamento \n– Continuaremos por sendeiros que nos trasladan ata o Monte do Facho\, onde poderemos visitar o Facho de Donón e o Castro de Donón\, aparte de fermosísimas panorámicas da Costa da Vela\, que nos permitirá entender o porque desa denominación\, e ao frente as Illas Cíes \n– O noso camiñar dirixiranos ata a parroquia de Hío\, onde observaremos o histórico Cruceiro de Hío\, para continuar ata o punto de Inicio\, no aparcamento da Praia de Limens \nO Camiño estará sinalizado por fitas Trabandainas\, rógase ir ao pendiente e non desprazarse do Camiño \nEn caso de verse obrigado a desprazarse do camiño é conveniente deixar sempre algún obxecto que indique a súa situación\, para non continuar recollendo a marcaxe ata o seu regreso \nComo é habitual\, entre os participantes irán Colaboradores do Club\, con camisetas cor verde que convén non perder nunca de vista. Se non se pode seguir o ritmo do que precede\, deberá intentar acompañarse do seguinte grupo. \nRógase que non se faga a ruta en solitario\, para evitar perderse \n﻿﻿﻿﻿﻿﻿﻿﻿﻿﻿﻿﻿﻿﻿﻿﻿﻿
URL:https://trabandainas.com/evento/ruta-pola-costa-da-vela/
LOCATION:Mercadona\, Noia\, Noia\, A Coruña\, 15200
CATEGORIES:Ruta Socios
ATTACH;FMTTYPE=image/jpeg:https://trabandainas.com/wp-content/uploads/2025/03/1200_3.jpg
ORGANIZER;CN="Club Trabandainas":MAILTO:clubtrabandainas@gmail.com
END:VEVENT
END:VCALENDAR